{"text_format":"1","workbook":"xlsx","n_sheets":2,"sheets":["Club Use","WCSHS Use"],"not_rendered":{"charts":0,"images":2,"macros":1,"external_links":0,"defined_names":0,"comments":0,"pivot_tables":0},"unopened":[],"bounds":{"document_bytes":16777216,"sheet_cells":100000,"rows_first":2000,"rows_last":500,"rows_between":2000,"halvings":0,"cell_chars":16384,"cell_head_chars":4096},"cells_cut":0,"cells_raw":0,"read":"whole","date_system":"1900"}

{"sheet":"Club Use","index":0,"n_rows":383,"n_cols":8,"rows_kept":383,"cut":false,"hidden":false,"merged":[[2,7,5,11],[382,0,382,4],[3,4,3,5],[0,0,0,5],[4,4,4,5],[6,0,7,0],[6,1,7,1],[6,4,7,4],[2,1,2,2],[3,1,3,2],[4,1,4,2],[0,7,0,11],[2,4,2,5]]}
["Wheeler Community Service Honors Society: Service Hours Submission Form",null,null,null,null,null,null,"Please ENABLE macros."]
[]
["Event Name:",null,null,"Club:",null,null,null,"You MUST sign out or else you will not receive credit for any hours completed during this event. All other fields must be complete for hours to be valid. "]
["Event Date:",null,null,"Sponsor:"]
["Start Time:",null,null,"End Time:"]
[]
["Last Name","First Name","Time-In","Time-Out","Hours"]
[]
[null,null,null,null,{"$f":"IF(OR(C9=0,D9=0),\"\",((D9-INT(D9))-(C9-INT(C9)))*24)","v":""}]
[null,null,null,null,""]
[null,null,null,null,""]
[null,null,null,null,""]
[null,null,null,null,""]
[null,null,null,null,""]
[null,null,null,null,""]
[null,null,null,null,""]
[null,null,null,null,""]
[null,null,null,null,""]
[null,null,null,null,""]
[null,null,null,null,""]
[null,null,null,null,""]
[null,null,null,null,""]
[null,null,null,null,""]
[null,null,null,null,""]
[null,null,null,null,""]
[null,null,null,null,""]
[null,null,null,null,""]
[null,null,null,null,""]
[null,null,null,null,""]
[null,null,null,null,""]
[null,null,null,null,""]
[null,null,null,null,""]
[null,null,null,null,""]
[null,null,null,null,""]
[null,null,null,null,""]
[null,null,null,null,""]
[null,null,null,null,""]
[null,null,null,null,""]
[null,null,null,null,""]
[null,null,null,null,""]
[null,null,null,null,""]
[null,null,null,null,""]
[null,null,null,null,""]
[null,null,null,null,""]
[null,null,null,null,""]
[null,null,null,null,""]
[null,null,null,null,""]
[null,null,null,null,""]
[null,null,null,null,""]
[null,null,null,null,""]
[null,null,null,null,""]
[null,null,null,null,""]
[null,null,null,null,""]
[null,null,null,null,""]
[null,null,null,null,""]
[null,null,null,null,""]
[null,null,null,null,""]
[null,null,null,null,""]
[null,null,null,null,""]
[null,null,null,null,""]
[null,null,null,null,""]
[null,null,null,null,""]
[null,null,null,null,""]
[null,null,null,null,""]
[null,null,null,null,""]
[null,null,null,null,""]
[null,null,null,null,""]
[null,null,null,null,""]
[null,null,null,null,""]
[null,null,null,null,""]
[null,null,null,null,""]
[null,null,null,null,""]
[null,null,null,null,""]
[null,null,null,null,{"$f":"IF(OR(C74=0,D74=0),\"\",((D74-INT(D74))-(C74-INT(C74)))*24)","v":""}]
[null,null,null,null,""]
[null,null,null,null,""]
[null,null,null,null,""]
[null,null,null,null,""]
[null,null,null,null,""]
[null,null,null,null,""]
[null,null,null,null,""]
[null,null,null,null,""]
[null,null,null,null,""]
[null,null,null,null,""]
[null,null,null,null,""]
[null,null,null,null,""]
[null,null,null,null,""]
[null,null,null,null,""]
[null,null,null,null,""]
[null,null,null,null,""]
[null,null,null,null,""]
[null,null,null,null,""]
[null,null,null,null,""]
[null,null,null,null,""]
[null,null,null,null,""]
[null,null,null,null,""]
[null,null,null,null,""]
[null,null,null,null,""]
[null,null,null,null,""]
[null,null,null,null,""]
[null,null,null,null,""]
[null,null,null,null,""]
[null,null,null,null,""]
[null,null,null,null,""]
[null,null,null,null,""]
[null,null,null,null,""]
[null,null,null,null,""]
[null,null,null,null,""]
[null,null,null,null,""]
[null,null,null,null,""]
[null,null,null,null,""]
[null,null,null,null,""]
[null,null,null,null,""]
[null,null,null,null,""]
[null,null,null,null,""]
[null,null,null,null,""]
[null,null,null,null,""]
[null,null,null,null,""]
[null,null,null,null,""]
[null,null,null,null,""]
[null,null,null,null,""]
[null,null,null,null,""]
[null,null,null,null,""]
[null,null,null,null,""]
[null,null,null,null,""]
[null,null,null,null,""]
[null,null,null,null,""]
[null,null,null,null,""]
[null,null,null,null,""]
[null,null,null,null,""]
[null,null,null,null,""]
[null,null,null,null,""]
[null,null,null,null,""]
[null,null,null,null,""]
[null,null,null,null,""]
[null,null,null,null,""]
[null,null,null,null,""]
[null,null,null,null,{"$f":"IF(OR(C138=0,D138=0),\"\",((D138-INT(D138))-(C138-INT(C138)))*24)","v":""}]
[null,null,null,null,""]
[null,null,null,null,""]
[null,null,null,null,""]
[null,null,null,null,""]
[null,null,null,null,""]
[null,null,null,null,""]
[null,null,null,null,""]
[null,null,null,null,""]
[null,null,null,null,""]
[null,null,null,null,""]
[null,null,null,null,""]
[null,null,null,null,""]
[null,null,null,null,""]
[null,null,null,null,""]
[null,null,null,null,""]
[null,null,null,null,""]
[null,null,null,null,""]
[null,null,null,null,""]
[null,null,null,null,""]
[null,null,null,null,""]
[null,null,null,null,""]
[null,null,null,null,""]
[null,null,null,null,""]
[null,null,null,null,""]
[null,null,null,null,""]
[null,null,null,null,""]
[null,null,null,null,""]
[null,null,null,null,""]
[null,null,null,null,""]
[null,null,null,null,""]
[null,null,null,null,""]
[null,null,null,null,""]
[null,null,null,null,""]
[null,null,null,null,""]
[null,null,null,null,""]
[null,null,null,null,""]
[null,null,null,null,""]
[null,null,null,null,""]
[null,null,null,null,""]
[null,null,null,null,""]
[null,null,null,null,""]
[null,null,null,null,""]
[null,null,null,null,""]
[null,null,null,null,""]
[null,null,null,null,""]
[null,null,null,null,""]
[null,null,null,null,""]
[null,null,null,null,""]
[null,null,null,null,""]
[null,null,null,null,""]
[null,null,null,null,""]
[null,null,null,null,""]
[null,null,null,null,""]
[null,null,null,null,""]
[null,null,null,null,""]
[null,null,null,null,""]
[null,null,null,null,""]
[null,null,null,null,""]
[null,null,null,null,""]
[null,null,null,null,""]
[null,null,null,null,""]
[null,null,null,null,""]
[null,null,null,null,""]
[null,null,null,null,{"$f":"IF(OR(C202=0,D202=0),\"\",((D202-INT(D202))-(C202-INT(C202)))*24)","v":""}]
[null,null,null,null,""]
[null,null,null,null,""]
[null,null,null,null,""]
[null,null,null,null,""]
[null,null,null,null,""]
[null,null,null,null,""]
[null,null,null,null,""]
[null,null,null,null,""]
[null,null,null,null,""]
[null,null,null,null,""]
[null,null,null,null,""]
[null,null,null,null,""]
[null,null,null,null,""]
[null,null,null,null,""]
[null,null,null,null,""]
[null,null,null,null,""]
[null,null,null,null,""]
[null,null,null,null,""]
[null,null,null,null,""]
[null,null,null,null,""]
[null,null,null,null,""]
[null,null,null,null,""]
[null,null,null,null,""]
[null,null,null,null,""]
[null,null,null,null,""]
[null,null,null,null,""]
[null,null,null,null,""]
[null,null,null,null,""]
[null,null,null,null,""]
[null,null,null,null,""]
[null,null,null,null,""]
[null,null,null,null,""]
[null,null,null,null,""]
[null,null,null,null,""]
[null,null,null,null,""]
[null,null,null,null,""]
[null,null,null,null,""]
[null,null,null,null,""]
[null,null,null,null,""]
[null,null,null,null,""]
[null,null,null,null,""]
[null,null,null,null,""]
[null,null,null,null,""]
[null,null,null,null,""]
[null,null,null,null,""]
[null,null,null,null,""]
[null,null,null,null,""]
[null,null,null,null,""]
[null,null,null,null,""]
[null,null,null,null,""]
[null,null,null,null,""]
[null,null,null,null,""]
[null,null,null,null,""]
[null,null,null,null,""]
[null,null,null,null,""]
[null,null,null,null,""]
[null,null,null,null,""]
[null,null,null,null,""]
[null,null,null,null,""]
[null,null,null,null,""]
[null,null,null,null,""]
[null,null,null,null,""]
[null,null,null,null,""]
[null,null,null,null,{"$f":"IF(OR(C266=0,D266=0),\"\",((D266-INT(D266))-(C266-INT(C266)))*24)","v":""}]
[null,null,null,null,""]
[null,null,null,null,""]
[null,null,null,null,""]
[null,null,null,null,""]
[null,null,null,null,""]
[null,null,null,null,""]
[null,null,null,null,""]
[null,null,null,null,""]
[null,null,null,null,""]
[null,null,null,null,""]
[null,null,null,null,""]
[null,null,null,null,""]
[null,null,null,null,""]
[null,null,null,null,""]
[null,null,null,null,""]
[null,null,null,null,""]
[null,null,null,null,""]
[null,null,null,null,""]
[null,null,null,null,""]
[null,null,null,null,""]
[null,null,null,null,""]
[null,null,null,null,""]
[null,null,null,null,""]
[null,null,null,null,""]
[null,null,null,null,""]
[null,null,null,null,""]
[null,null,null,null,""]
[null,null,null,null,""]
[null,null,null,null,""]
[null,null,null,null,""]
[null,null,null,null,""]
[null,null,null,null,""]
[null,null,null,null,""]
[null,null,null,null,""]
[null,null,null,null,""]
[null,null,null,null,""]
[null,null,null,null,""]
[null,null,null,null,""]
[null,null,null,null,""]
[null,null,null,null,""]
[null,null,null,null,""]
[null,null,null,null,""]
[null,null,null,null,""]
[null,null,null,null,""]
[null,null,null,null,""]
[null,null,null,null,""]
[null,null,null,null,""]
[null,null,null,null,""]
[null,null,null,null,""]
[null,null,null,null,""]
[null,null,null,null,""]
[null,null,null,null,""]
[null,null,null,null,""]
[null,null,null,null,""]
[null,null,null,null,""]
[null,null,null,null,""]
[null,null,null,null,""]
[null,null,null,null,""]
[null,null,null,null,""]
[null,null,null,null,""]
[null,null,null,null,""]
[null,null,null,null,""]
[null,null,null,null,""]
[null,null,null,null,{"$f":"IF(OR(C330=0,D330=0),\"\",((D330-INT(D330))-(C330-INT(C330)))*24)","v":""}]
[null,null,null,null,""]
[null,null,null,null,""]
[null,null,null,null,""]
[null,null,null,null,""]
[null,null,null,null,""]
[null,null,null,null,""]
[null,null,null,null,""]
[null,null,null,null,""]
[null,null,null,null,""]
[null,null,null,null,""]
[null,null,null,null,""]
[null,null,null,null,""]
[null,null,null,null,""]
[null,null,null,null,""]
[null,null,null,null,""]
[null,null,null,null,""]
[null,null,null,null,""]
[null,null,null,null,""]
[null,null,null,null,""]
[null,null,null,null,""]
[null,null,null,null,""]
[null,null,null,null,""]
[null,null,null,null,""]
[null,null,null,null,""]
[null,null,null,null,""]
[null,null,null,null,""]
[null,null,null,null,""]
[null,null,null,null,""]
[null,null,null,null,""]
[null,null,null,null,""]
[null,null,null,null,""]
[null,null,null,null,""]
[null,null,null,null,""]
[null,null,null,null,""]
[null,null,null,null,""]
[null,null,null,null,""]
[null,null,null,null,""]
[null,null,null,null,""]
[null,null,null,null,""]
[null,null,null,null,""]
[null,null,null,null,""]
[null,null,null,null,""]
[null,null,null,null,""]
[null,null,null,null,""]
[null,null,null,null,""]
[null,null,null,null,""]
[null,null,null,null,""]
[null,null,null,null,""]
[null,null,null,null,""]
[null,null,null,null,""]
[null,null,null,null,""]
[null,null,null,null,""]
["This is the end of this document. Please start a new one if you still have more hours."]

{"sheet":"WCSHS Use","index":1,"n_rows":375,"n_cols":6,"rows_kept":375,"cut":false,"hidden":false,"merged":[]}
["Last Name","First Name","Event","Date","Hours"]
[{"$f":"'Club Use'!A9","v":0},{"$f":"'Club Use'!B9","v":0},{"$f":"CONCATENATE('Club Use'!B3, \" (\", 'Club Use'!E3, \")\")","v":" ()"},{"$f":"'Club Use'!B4","v":"00:00:00"},{"$f":"'Club Use'!E9","v":""}]
[{"$f":"'Club Use'!A10","v":0},{"$f":"'Club Use'!B10","v":0},{"$f":"IF(OR(E3 =$F$3,E3=0),\" \",$C$2)","v":" "},{"$f":"IF(OR(E3 =$F$3,E3=0),\" \",$D$2)","v":" "},{"$f":"'Club Use'!E10","v":""},""]
[{"$f":"'Club Use'!A11","v":0},{"$f":"'Club Use'!B11","v":0},{"$f":"IF(OR(E4 =$F$3,E4=0),\" \",$C$2)","v":" "},{"$f":"IF(OR(E4 =$F$3,E4=0),\" \",$D$2)","v":" "},{"$f":"'Club Use'!E11","v":""}]
[{"$f":"'Club Use'!A12","v":0},{"$f":"'Club Use'!B12","v":0}," "," ",{"$f":"'Club Use'!E12","v":""}]
[{"$f":"'Club Use'!A13","v":0},{"$f":"'Club Use'!B13","v":0}," "," ",{"$f":"'Club Use'!E13","v":""}]
[{"$f":"'Club Use'!A14","v":0},{"$f":"'Club Use'!B14","v":0}," "," ",{"$f":"'Club Use'!E14","v":""}]
[{"$f":"'Club Use'!A15","v":0},{"$f":"'Club Use'!B15","v":0}," "," ",{"$f":"'Club Use'!E15","v":""}]
[{"$f":"'Club Use'!A16","v":0},{"$f":"'Club Use'!B16","v":0}," "," ",{"$f":"'Club Use'!E16","v":""}]
[{"$f":"'Club Use'!A17","v":0},{"$f":"'Club Use'!B17","v":0}," "," ",{"$f":"'Club Use'!E17","v":""}]
[{"$f":"'Club Use'!A18","v":0},{"$f":"'Club Use'!B18","v":0}," "," ",{"$f":"'Club Use'!E18","v":""}]
[{"$f":"'Club Use'!A19","v":0},{"$f":"'Club Use'!B19","v":0}," "," ",{"$f":"'Club Use'!E19","v":""}]
[{"$f":"'Club Use'!A20","v":0},{"$f":"'Club Use'!B20","v":0}," "," ",{"$f":"'Club Use'!E20","v":""}]
[{"$f":"'Club Use'!A21","v":0},{"$f":"'Club Use'!B21","v":0}," "," ",{"$f":"'Club Use'!E21","v":""}]
[{"$f":"'Club Use'!A22","v":0},{"$f":"'Club Use'!B22","v":0}," "," ",{"$f":"'Club Use'!E22","v":""}]
[{"$f":"'Club Use'!A23","v":0},{"$f":"'Club Use'!B23","v":0}," "," ",{"$f":"'Club Use'!E23","v":""}]
[{"$f":"'Club Use'!A24","v":0},{"$f":"'Club Use'!B24","v":0}," "," ",{"$f":"'Club Use'!E24","v":""}]
[{"$f":"'Club Use'!A25","v":0},{"$f":"'Club Use'!B25","v":0}," "," ",{"$f":"'Club Use'!E25","v":""}]
[{"$f":"'Club Use'!A26","v":0},{"$f":"'Club Use'!B26","v":0}," "," ",{"$f":"'Club Use'!E26","v":""}]
[{"$f":"'Club Use'!A27","v":0},{"$f":"'Club Use'!B27","v":0}," "," ",{"$f":"'Club Use'!E27","v":""}]
[{"$f":"'Club Use'!A28","v":0},{"$f":"'Club Use'!B28","v":0}," "," ",{"$f":"'Club Use'!E28","v":""}]
[{"$f":"'Club Use'!A29","v":0},{"$f":"'Club Use'!B29","v":0}," "," ",{"$f":"'Club Use'!E29","v":""}]
[{"$f":"'Club Use'!A30","v":0},{"$f":"'Club Use'!B30","v":0}," "," ",{"$f":"'Club Use'!E30","v":""}]
[{"$f":"'Club Use'!A31","v":0},{"$f":"'Club Use'!B31","v":0}," "," ",{"$f":"'Club Use'!E31","v":""}]
[{"$f":"'Club Use'!A32","v":0},{"$f":"'Club Use'!B32","v":0}," "," ",{"$f":"'Club Use'!E32","v":""}]
[{"$f":"'Club Use'!A33","v":0},{"$f":"'Club Use'!B33","v":0}," "," ",{"$f":"'Club Use'!E33","v":""}]
[{"$f":"'Club Use'!A34","v":0},{"$f":"'Club Use'!B34","v":0}," "," ",{"$f":"'Club Use'!E34","v":""}]
[{"$f":"'Club Use'!A35","v":0},{"$f":"'Club Use'!B35","v":0}," "," ",{"$f":"'Club Use'!E35","v":""}]
[{"$f":"'Club Use'!A36","v":0},{"$f":"'Club Use'!B36","v":0}," "," ",{"$f":"'Club Use'!E36","v":""}]
[{"$f":"'Club Use'!A37","v":0},{"$f":"'Club Use'!B37","v":0}," "," ",{"$f":"'Club Use'!E37","v":""}]
[{"$f":"'Club Use'!A38","v":0},{"$f":"'Club Use'!B38","v":0}," "," ",{"$f":"'Club Use'!E38","v":""}]
[{"$f":"'Club Use'!A39","v":0},{"$f":"'Club Use'!B39","v":0}," "," ",{"$f":"'Club Use'!E39","v":""}]
[{"$f":"'Club Use'!A40","v":0},{"$f":"'Club Use'!B40","v":0}," "," ",{"$f":"'Club Use'!E40","v":""}]
[{"$f":"'Club Use'!A41","v":0},{"$f":"'Club Use'!B41","v":0}," "," ",{"$f":"'Club Use'!E41","v":""}]
[{"$f":"'Club Use'!A42","v":0},{"$f":"'Club Use'!B42","v":0}," "," ",{"$f":"'Club Use'!E42","v":""}]
[{"$f":"'Club Use'!A43","v":0},{"$f":"'Club Use'!B43","v":0}," "," ",{"$f":"'Club Use'!E43","v":""}]
[{"$f":"'Club Use'!A44","v":0},{"$f":"'Club Use'!B44","v":0}," "," ",{"$f":"'Club Use'!E44","v":""}]
[{"$f":"'Club Use'!A45","v":0},{"$f":"'Club Use'!B45","v":0}," "," ",{"$f":"'Club Use'!E45","v":""}]
[{"$f":"'Club Use'!A46","v":0},{"$f":"'Club Use'!B46","v":0}," "," ",{"$f":"'Club Use'!E46","v":""}]
[{"$f":"'Club Use'!A47","v":0},{"$f":"'Club Use'!B47","v":0}," "," ",{"$f":"'Club Use'!E47","v":""}]
[{"$f":"'Club Use'!A48","v":0},{"$f":"'Club Use'!B48","v":0}," "," ",{"$f":"'Club Use'!E48","v":""}]
[{"$f":"'Club Use'!A49","v":0},{"$f":"'Club Use'!B49","v":0}," "," ",{"$f":"'Club Use'!E49","v":""}]
[{"$f":"'Club Use'!A50","v":0},{"$f":"'Club Use'!B50","v":0}," "," ",{"$f":"'Club Use'!E50","v":""}]
[{"$f":"'Club Use'!A51","v":0},{"$f":"'Club Use'!B51","v":0}," "," ",{"$f":"'Club Use'!E51","v":""}]
[{"$f":"'Club Use'!A52","v":0},{"$f":"'Club Use'!B52","v":0}," "," ",{"$f":"'Club Use'!E52","v":""}]
[{"$f":"'Club Use'!A53","v":0},{"$f":"'Club Use'!B53","v":0}," "," ",{"$f":"'Club Use'!E53","v":""}]
[{"$f":"'Club Use'!A54","v":0},{"$f":"'Club Use'!B54","v":0}," "," ",{"$f":"'Club Use'!E54","v":""}]
[{"$f":"'Club Use'!A55","v":0},{"$f":"'Club Use'!B55","v":0}," "," ",{"$f":"'Club Use'!E55","v":""}]
[{"$f":"'Club Use'!A56","v":0},{"$f":"'Club Use'!B56","v":0}," "," ",{"$f":"'Club Use'!E56","v":""}]
[{"$f":"'Club Use'!A57","v":0},{"$f":"'Club Use'!B57","v":0}," "," ",{"$f":"'Club Use'!E57","v":""}]
[{"$f":"'Club Use'!A58","v":0},{"$f":"'Club Use'!B58","v":0}," "," ",{"$f":"'Club Use'!E58","v":""}]
[{"$f":"'Club Use'!A59","v":0},{"$f":"'Club Use'!B59","v":0}," "," ",{"$f":"'Club Use'!E59","v":""}]
[{"$f":"'Club Use'!A60","v":0},{"$f":"'Club Use'!B60","v":0}," "," ",{"$f":"'Club Use'!E60","v":""}]
[{"$f":"'Club Use'!A61","v":0},{"$f":"'Club Use'!B61","v":0}," "," ",{"$f":"'Club Use'!E61","v":""}]
[{"$f":"'Club Use'!A62","v":0},{"$f":"'Club Use'!B62","v":0}," "," ",{"$f":"'Club Use'!E62","v":""}]
[{"$f":"'Club Use'!A63","v":0},{"$f":"'Club Use'!B63","v":0}," "," ",{"$f":"'Club Use'!E63","v":""}]
[{"$f":"'Club Use'!A64","v":0},{"$f":"'Club Use'!B64","v":0}," "," ",{"$f":"'Club Use'!E64","v":""}]
[{"$f":"'Club Use'!A65","v":0},{"$f":"'Club Use'!B65","v":0}," "," ",{"$f":"'Club Use'!E65","v":""}]
[{"$f":"'Club Use'!A66","v":0},{"$f":"'Club Use'!B66","v":0}," "," ",{"$f":"'Club Use'!E66","v":""}]
[{"$f":"'Club Use'!A67","v":0},{"$f":"'Club Use'!B67","v":0}," "," ",{"$f":"'Club Use'!E67","v":""}]
[{"$f":"'Club Use'!A68","v":0},{"$f":"'Club Use'!B68","v":0}," "," ",{"$f":"'Club Use'!E68","v":""}]
[{"$f":"'Club Use'!A69","v":0},{"$f":"'Club Use'!B69","v":0}," "," ",{"$f":"'Club Use'!E69","v":""}]
[{"$f":"'Club Use'!A70","v":0},{"$f":"'Club Use'!B70","v":0}," "," ",{"$f":"'Club Use'!E70","v":""}]
[{"$f":"'Club Use'!A71","v":0},{"$f":"'Club Use'!B71","v":0}," "," ",{"$f":"'Club Use'!E71","v":""}]
[{"$f":"'Club Use'!A72","v":0},{"$f":"'Club Use'!B72","v":0}," "," ",{"$f":"'Club Use'!E72","v":""}]
[{"$f":"'Club Use'!A73","v":0},{"$f":"'Club Use'!B73","v":0}," "," ",{"$f":"'Club Use'!E73","v":""}]
[{"$f":"'Club Use'!A74","v":0},{"$f":"'Club Use'!B74","v":0},{"$f":"IF(OR(E67 =$F$3,E67=0),\" \",$C$2)","v":" "}," ",{"$f":"'Club Use'!E74","v":""}]
[{"$f":"'Club Use'!A75","v":0},{"$f":"'Club Use'!B75","v":0}," ",{"$f":"IF(OR(E68 =$F$3,E68=0),\" \",$D$2)","v":" "},{"$f":"'Club Use'!E75","v":""}]
[{"$f":"'Club Use'!A76","v":0},{"$f":"'Club Use'!B76","v":0}," "," ",{"$f":"'Club Use'!E76","v":""}]
[{"$f":"'Club Use'!A77","v":0},{"$f":"'Club Use'!B77","v":0}," "," ",{"$f":"'Club Use'!E77","v":""}]
[{"$f":"'Club Use'!A78","v":0},{"$f":"'Club Use'!B78","v":0}," "," ",{"$f":"'Club Use'!E78","v":""}]
[{"$f":"'Club Use'!A79","v":0},{"$f":"'Club Use'!B79","v":0}," "," ",{"$f":"'Club Use'!E79","v":""}]
[{"$f":"'Club Use'!A80","v":0},{"$f":"'Club Use'!B80","v":0}," "," ",{"$f":"'Club Use'!E80","v":""}]
[{"$f":"'Club Use'!A81","v":0},{"$f":"'Club Use'!B81","v":0}," "," ",{"$f":"'Club Use'!E81","v":""}]
[{"$f":"'Club Use'!A82","v":0},{"$f":"'Club Use'!B82","v":0}," "," ",{"$f":"'Club Use'!E82","v":""}]
[{"$f":"'Club Use'!A83","v":0},{"$f":"'Club Use'!B83","v":0}," "," ",{"$f":"'Club Use'!E83","v":""}]
[{"$f":"'Club Use'!A84","v":0},{"$f":"'Club Use'!B84","v":0}," "," ",{"$f":"'Club Use'!E84","v":""}]
[{"$f":"'Club Use'!A85","v":0},{"$f":"'Club Use'!B85","v":0}," "," ",{"$f":"'Club Use'!E85","v":""}]
[{"$f":"'Club Use'!A86","v":0},{"$f":"'Club Use'!B86","v":0}," "," ",{"$f":"'Club Use'!E86","v":""}]
[{"$f":"'Club Use'!A87","v":0},{"$f":"'Club Use'!B87","v":0}," "," ",{"$f":"'Club Use'!E87","v":""}]
[{"$f":"'Club Use'!A88","v":0},{"$f":"'Club Use'!B88","v":0}," "," ",{"$f":"'Club Use'!E88","v":""}]
[{"$f":"'Club Use'!A89","v":0},{"$f":"'Club Use'!B89","v":0}," "," ",{"$f":"'Club Use'!E89","v":""}]
[{"$f":"'Club Use'!A90","v":0},{"$f":"'Club Use'!B90","v":0}," "," ",{"$f":"'Club Use'!E90","v":""}]
[{"$f":"'Club Use'!A91","v":0},{"$f":"'Club Use'!B91","v":0}," "," ",{"$f":"'Club Use'!E91","v":""}]
[{"$f":"'Club Use'!A92","v":0},{"$f":"'Club Use'!B92","v":0}," "," ",{"$f":"'Club Use'!E92","v":""}]
[{"$f":"'Club Use'!A93","v":0},{"$f":"'Club Use'!B93","v":0}," "," ",{"$f":"'Club Use'!E93","v":""}]
[{"$f":"'Club Use'!A94","v":0},{"$f":"'Club Use'!B94","v":0}," "," ",{"$f":"'Club Use'!E94","v":""}]
[{"$f":"'Club Use'!A95","v":0},{"$f":"'Club Use'!B95","v":0}," "," ",{"$f":"'Club Use'!E95","v":""}]
[{"$f":"'Club Use'!A96","v":0},{"$f":"'Club Use'!B96","v":0}," "," ",{"$f":"'Club Use'!E96","v":""}]
[{"$f":"'Club Use'!A97","v":0},{"$f":"'Club Use'!B97","v":0}," "," ",{"$f":"'Club Use'!E97","v":""}]
[{"$f":"'Club Use'!A98","v":0},{"$f":"'Club Use'!B98","v":0}," "," ",{"$f":"'Club Use'!E98","v":""}]
[{"$f":"'Club Use'!A99","v":0},{"$f":"'Club Use'!B99","v":0}," "," ",{"$f":"'Club Use'!E99","v":""}]
[{"$f":"'Club Use'!A100","v":0},{"$f":"'Club Use'!B100","v":0}," "," ",{"$f":"'Club Use'!E100","v":""}]
[{"$f":"'Club Use'!A101","v":0},{"$f":"'Club Use'!B101","v":0}," "," ",{"$f":"'Club Use'!E101","v":""}]
[{"$f":"'Club Use'!A102","v":0},{"$f":"'Club Use'!B102","v":0}," "," ",{"$f":"'Club Use'!E102","v":""}]
[{"$f":"'Club Use'!A103","v":0},{"$f":"'Club Use'!B103","v":0}," "," ",{"$f":"'Club Use'!E103","v":""}]
[{"$f":"'Club Use'!A104","v":0},{"$f":"'Club Use'!B104","v":0}," "," ",{"$f":"'Club Use'!E104","v":""}]
[{"$f":"'Club Use'!A105","v":0},{"$f":"'Club Use'!B105","v":0}," "," ",{"$f":"'Club Use'!E105","v":""}]
[{"$f":"'Club Use'!A106","v":0},{"$f":"'Club Use'!B106","v":0}," "," ",{"$f":"'Club Use'!E106","v":""}]
[{"$f":"'Club Use'!A107","v":0},{"$f":"'Club Use'!B107","v":0}," "," ",{"$f":"'Club Use'!E107","v":""}]
[{"$f":"'Club Use'!A108","v":0},{"$f":"'Club Use'!B108","v":0}," "," ",{"$f":"'Club Use'!E108","v":""}]
[{"$f":"'Club Use'!A109","v":0},{"$f":"'Club Use'!B109","v":0}," "," ",{"$f":"'Club Use'!E109","v":""}]
[{"$f":"'Club Use'!A110","v":0},{"$f":"'Club Use'!B110","v":0}," "," ",{"$f":"'Club Use'!E110","v":""}]
[{"$f":"'Club Use'!A111","v":0},{"$f":"'Club Use'!B111","v":0}," "," ",{"$f":"'Club Use'!E111","v":""}]
[{"$f":"'Club Use'!A112","v":0},{"$f":"'Club Use'!B112","v":0}," "," ",{"$f":"'Club Use'!E112","v":""}]
[{"$f":"'Club Use'!A113","v":0},{"$f":"'Club Use'!B113","v":0}," "," ",{"$f":"'Club Use'!E113","v":""}]
[{"$f":"'Club Use'!A114","v":0},{"$f":"'Club Use'!B114","v":0}," "," ",{"$f":"'Club Use'!E114","v":""}]
[{"$f":"'Club Use'!A115","v":0},{"$f":"'Club Use'!B115","v":0}," "," ",{"$f":"'Club Use'!E115","v":""}]
[{"$f":"'Club Use'!A116","v":0},{"$f":"'Club Use'!B116","v":0}," "," ",{"$f":"'Club Use'!E116","v":""}]
[{"$f":"'Club Use'!A117","v":0},{"$f":"'Club Use'!B117","v":0}," "," ",{"$f":"'Club Use'!E117","v":""}]
[{"$f":"'Club Use'!A118","v":0},{"$f":"'Club Use'!B118","v":0}," "," ",{"$f":"'Club Use'!E118","v":""}]
[{"$f":"'Club Use'!A119","v":0},{"$f":"'Club Use'!B119","v":0}," "," ",{"$f":"'Club Use'!E119","v":""}]
[{"$f":"'Club Use'!A120","v":0},{"$f":"'Club Use'!B120","v":0}," "," ",{"$f":"'Club Use'!E120","v":""}]
[{"$f":"'Club Use'!A121","v":0},{"$f":"'Club Use'!B121","v":0}," "," ",{"$f":"'Club Use'!E121","v":""}]
[{"$f":"'Club Use'!A122","v":0},{"$f":"'Club Use'!B122","v":0}," "," ",{"$f":"'Club Use'!E122","v":""}]
[{"$f":"'Club Use'!A123","v":0},{"$f":"'Club Use'!B123","v":0}," "," ",{"$f":"'Club Use'!E123","v":""}]
[{"$f":"'Club Use'!A124","v":0},{"$f":"'Club Use'!B124","v":0}," "," ",{"$f":"'Club Use'!E124","v":""}]
[{"$f":"'Club Use'!A125","v":0},{"$f":"'Club Use'!B125","v":0}," "," ",{"$f":"'Club Use'!E125","v":""}]
[{"$f":"'Club Use'!A126","v":0},{"$f":"'Club Use'!B126","v":0}," "," ",{"$f":"'Club Use'!E126","v":""}]
[{"$f":"'Club Use'!A127","v":0},{"$f":"'Club Use'!B127","v":0}," "," ",{"$f":"'Club Use'!E127","v":""}]
[{"$f":"'Club Use'!A128","v":0},{"$f":"'Club Use'!B128","v":0}," "," ",{"$f":"'Club Use'!E128","v":""}]
[{"$f":"'Club Use'!A129","v":0},{"$f":"'Club Use'!B129","v":0}," "," ",{"$f":"'Club Use'!E129","v":""}]
[{"$f":"'Club Use'!A130","v":0},{"$f":"'Club Use'!B130","v":0}," "," ",{"$f":"'Club Use'!E130","v":""}]
[{"$f":"'Club Use'!A131","v":0},{"$f":"'Club Use'!B131","v":0}," "," ",{"$f":"'Club Use'!E131","v":""}]
[{"$f":"'Club Use'!A132","v":0},{"$f":"'Club Use'!B132","v":0}," "," ",{"$f":"'Club Use'!E132","v":""}]
[{"$f":"'Club Use'!A133","v":0},{"$f":"'Club Use'!B133","v":0}," "," ",{"$f":"'Club Use'!E133","v":""}]
[{"$f":"'Club Use'!A134","v":0},{"$f":"'Club Use'!B134","v":0}," "," ",{"$f":"'Club Use'!E134","v":""}]
[{"$f":"'Club Use'!A135","v":0},{"$f":"'Club Use'!B135","v":0}," "," ",{"$f":"'Club Use'!E135","v":""}]
[{"$f":"'Club Use'!A136","v":0},{"$f":"'Club Use'!B136","v":0}," "," ",{"$f":"'Club Use'!E136","v":""}]
[{"$f":"'Club Use'!A137","v":0},{"$f":"'Club Use'!B137","v":0}," "," ",{"$f":"'Club Use'!E137","v":""}]
[{"$f":"'Club Use'!A138","v":0},{"$f":"'Club Use'!B138","v":0},{"$f":"IF(OR(E131 =$F$3,E131=0),\" \",$C$2)","v":" "}," ",{"$f":"'Club Use'!E138","v":""}]
[{"$f":"'Club Use'!A139","v":0},{"$f":"'Club Use'!B139","v":0}," ",{"$f":"IF(OR(E132 =$F$3,E132=0),\" \",$D$2)","v":" "},{"$f":"'Club Use'!E139","v":""}]
[{"$f":"'Club Use'!A140","v":0},{"$f":"'Club Use'!B140","v":0}," "," ",{"$f":"'Club Use'!E140","v":""}]
[{"$f":"'Club Use'!A141","v":0},{"$f":"'Club Use'!B141","v":0}," "," ",{"$f":"'Club Use'!E141","v":""}]
[{"$f":"'Club Use'!A142","v":0},{"$f":"'Club Use'!B142","v":0}," "," ",{"$f":"'Club Use'!E142","v":""}]
[{"$f":"'Club Use'!A143","v":0},{"$f":"'Club Use'!B143","v":0}," "," ",{"$f":"'Club Use'!E143","v":""}]
[{"$f":"'Club Use'!A144","v":0},{"$f":"'Club Use'!B144","v":0}," "," ",{"$f":"'Club Use'!E144","v":""}]
[{"$f":"'Club Use'!A145","v":0},{"$f":"'Club Use'!B145","v":0}," "," ",{"$f":"'Club Use'!E145","v":""}]
[{"$f":"'Club Use'!A146","v":0},{"$f":"'Club Use'!B146","v":0}," "," ",{"$f":"'Club Use'!E146","v":""}]
[{"$f":"'Club Use'!A147","v":0},{"$f":"'Club Use'!B147","v":0}," "," ",{"$f":"'Club Use'!E147","v":""}]
[{"$f":"'Club Use'!A148","v":0},{"$f":"'Club Use'!B148","v":0}," "," ",{"$f":"'Club Use'!E148","v":""}]
[{"$f":"'Club Use'!A149","v":0},{"$f":"'Club Use'!B149","v":0}," "," ",{"$f":"'Club Use'!E149","v":""}]
[{"$f":"'Club Use'!A150","v":0},{"$f":"'Club Use'!B150","v":0}," "," ",{"$f":"'Club Use'!E150","v":""}]
[{"$f":"'Club Use'!A151","v":0},{"$f":"'Club Use'!B151","v":0}," "," ",{"$f":"'Club Use'!E151","v":""}]
[{"$f":"'Club Use'!A152","v":0},{"$f":"'Club Use'!B152","v":0}," "," ",{"$f":"'Club Use'!E152","v":""}]
[{"$f":"'Club Use'!A153","v":0},{"$f":"'Club Use'!B153","v":0}," "," ",{"$f":"'Club Use'!E153","v":""}]
[{"$f":"'Club Use'!A154","v":0},{"$f":"'Club Use'!B154","v":0}," "," ",{"$f":"'Club Use'!E154","v":""}]
[{"$f":"'Club Use'!A155","v":0},{"$f":"'Club Use'!B155","v":0}," "," ",{"$f":"'Club Use'!E155","v":""}]
[{"$f":"'Club Use'!A156","v":0},{"$f":"'Club Use'!B156","v":0}," "," ",{"$f":"'Club Use'!E156","v":""}]
[{"$f":"'Club Use'!A157","v":0},{"$f":"'Club Use'!B157","v":0}," "," ",{"$f":"'Club Use'!E157","v":""}]
[{"$f":"'Club Use'!A158","v":0},{"$f":"'Club Use'!B158","v":0}," "," ",{"$f":"'Club Use'!E158","v":""}]
[{"$f":"'Club Use'!A159","v":0},{"$f":"'Club Use'!B159","v":0}," "," ",{"$f":"'Club Use'!E159","v":""}]
[{"$f":"'Club Use'!A160","v":0},{"$f":"'Club Use'!B160","v":0}," "," ",{"$f":"'Club Use'!E160","v":""}]
[{"$f":"'Club Use'!A161","v":0},{"$f":"'Club Use'!B161","v":0}," "," ",{"$f":"'Club Use'!E161","v":""}]
[{"$f":"'Club Use'!A162","v":0},{"$f":"'Club Use'!B162","v":0}," "," ",{"$f":"'Club Use'!E162","v":""}]
[{"$f":"'Club Use'!A163","v":0},{"$f":"'Club Use'!B163","v":0}," "," ",{"$f":"'Club Use'!E163","v":""}]
[{"$f":"'Club Use'!A164","v":0},{"$f":"'Club Use'!B164","v":0}," "," ",{"$f":"'Club Use'!E164","v":""}]
[{"$f":"'Club Use'!A165","v":0},{"$f":"'Club Use'!B165","v":0}," "," ",{"$f":"'Club Use'!E165","v":""}]
[{"$f":"'Club Use'!A166","v":0},{"$f":"'Club Use'!B166","v":0}," "," ",{"$f":"'Club Use'!E166","v":""}]
[{"$f":"'Club Use'!A167","v":0},{"$f":"'Club Use'!B167","v":0}," "," ",{"$f":"'Club Use'!E167","v":""}]
[{"$f":"'Club Use'!A168","v":0},{"$f":"'Club Use'!B168","v":0}," "," ",{"$f":"'Club Use'!E168","v":""}]
[{"$f":"'Club Use'!A169","v":0},{"$f":"'Club Use'!B169","v":0}," "," ",{"$f":"'Club Use'!E169","v":""}]
[{"$f":"'Club Use'!A170","v":0},{"$f":"'Club Use'!B170","v":0}," "," ",{"$f":"'Club Use'!E170","v":""}]
[{"$f":"'Club Use'!A171","v":0},{"$f":"'Club Use'!B171","v":0}," "," ",{"$f":"'Club Use'!E171","v":""}]
[{"$f":"'Club Use'!A172","v":0},{"$f":"'Club Use'!B172","v":0}," "," ",{"$f":"'Club Use'!E172","v":""}]
[{"$f":"'Club Use'!A173","v":0},{"$f":"'Club Use'!B173","v":0}," "," ",{"$f":"'Club Use'!E173","v":""}]
[{"$f":"'Club Use'!A174","v":0},{"$f":"'Club Use'!B174","v":0}," "," ",{"$f":"'Club Use'!E174","v":""}]
[{"$f":"'Club Use'!A175","v":0},{"$f":"'Club Use'!B175","v":0}," "," ",{"$f":"'Club Use'!E175","v":""}]
[{"$f":"'Club Use'!A176","v":0},{"$f":"'Club Use'!B176","v":0}," "," ",{"$f":"'Club Use'!E176","v":""}]
[{"$f":"'Club Use'!A177","v":0},{"$f":"'Club Use'!B177","v":0}," "," ",{"$f":"'Club Use'!E177","v":""}]
[{"$f":"'Club Use'!A178","v":0},{"$f":"'Club Use'!B178","v":0}," "," ",{"$f":"'Club Use'!E178","v":""}]
[{"$f":"'Club Use'!A179","v":0},{"$f":"'Club Use'!B179","v":0}," "," ",{"$f":"'Club Use'!E179","v":""}]
[{"$f":"'Club Use'!A180","v":0},{"$f":"'Club Use'!B180","v":0}," "," ",{"$f":"'Club Use'!E180","v":""}]
[{"$f":"'Club Use'!A181","v":0},{"$f":"'Club Use'!B181","v":0}," "," ",{"$f":"'Club Use'!E181","v":""}]
[{"$f":"'Club Use'!A182","v":0},{"$f":"'Club Use'!B182","v":0}," "," ",{"$f":"'Club Use'!E182","v":""}]
[{"$f":"'Club Use'!A183","v":0},{"$f":"'Club Use'!B183","v":0}," "," ",{"$f":"'Club Use'!E183","v":""}]
[{"$f":"'Club Use'!A184","v":0},{"$f":"'Club Use'!B184","v":0}," "," ",{"$f":"'Club Use'!E184","v":""}]
[{"$f":"'Club Use'!A185","v":0},{"$f":"'Club Use'!B185","v":0}," "," ",{"$f":"'Club Use'!E185","v":""}]
[{"$f":"'Club Use'!A186","v":0},{"$f":"'Club Use'!B186","v":0}," "," ",{"$f":"'Club Use'!E186","v":""}]
[{"$f":"'Club Use'!A187","v":0},{"$f":"'Club Use'!B187","v":0}," "," ",{"$f":"'Club Use'!E187","v":""}]
[{"$f":"'Club Use'!A188","v":0},{"$f":"'Club Use'!B188","v":0}," "," ",{"$f":"'Club Use'!E188","v":""}]
[{"$f":"'Club Use'!A189","v":0},{"$f":"'Club Use'!B189","v":0}," "," ",{"$f":"'Club Use'!E189","v":""}]
[{"$f":"'Club Use'!A190","v":0},{"$f":"'Club Use'!B190","v":0}," "," ",{"$f":"'Club Use'!E190","v":""}]
[{"$f":"'Club Use'!A191","v":0},{"$f":"'Club Use'!B191","v":0}," "," ",{"$f":"'Club Use'!E191","v":""}]
[{"$f":"'Club Use'!A192","v":0},{"$f":"'Club Use'!B192","v":0}," "," ",{"$f":"'Club Use'!E192","v":""}]
[{"$f":"'Club Use'!A193","v":0},{"$f":"'Club Use'!B193","v":0}," "," ",{"$f":"'Club Use'!E193","v":""}]
[{"$f":"'Club Use'!A194","v":0},{"$f":"'Club Use'!B194","v":0}," "," ",{"$f":"'Club Use'!E194","v":""}]
[{"$f":"'Club Use'!A195","v":0},{"$f":"'Club Use'!B195","v":0}," "," ",{"$f":"'Club Use'!E195","v":""}]
[{"$f":"'Club Use'!A196","v":0},{"$f":"'Club Use'!B196","v":0}," "," ",{"$f":"'Club Use'!E196","v":""}]
[{"$f":"'Club Use'!A197","v":0},{"$f":"'Club Use'!B197","v":0}," "," ",{"$f":"'Club Use'!E197","v":""}]
[{"$f":"'Club Use'!A198","v":0},{"$f":"'Club Use'!B198","v":0}," "," ",{"$f":"'Club Use'!E198","v":""}]
[{"$f":"'Club Use'!A199","v":0},{"$f":"'Club Use'!B199","v":0}," "," ",{"$f":"'Club Use'!E199","v":""}]
[{"$f":"'Club Use'!A200","v":0},{"$f":"'Club Use'!B200","v":0}," "," ",{"$f":"'Club Use'!E200","v":""}]
[{"$f":"'Club Use'!A201","v":0},{"$f":"'Club Use'!B201","v":0}," "," ",{"$f":"'Club Use'!E201","v":""}]
[{"$f":"'Club Use'!A202","v":0},{"$f":"'Club Use'!B202","v":0},{"$f":"IF(OR(E195 =$F$3,E195=0),\" \",$C$2)","v":" "}," ",{"$f":"'Club Use'!E202","v":""}]
[{"$f":"'Club Use'!A203","v":0},{"$f":"'Club Use'!B203","v":0}," ",{"$f":"IF(OR(E196 =$F$3,E196=0),\" \",$D$2)","v":" "},{"$f":"'Club Use'!E203","v":""}]
[{"$f":"'Club Use'!A204","v":0},{"$f":"'Club Use'!B204","v":0}," "," ",{"$f":"'Club Use'!E204","v":""}]
[{"$f":"'Club Use'!A205","v":0},{"$f":"'Club Use'!B205","v":0}," "," ",{"$f":"'Club Use'!E205","v":""}]
[{"$f":"'Club Use'!A206","v":0},{"$f":"'Club Use'!B206","v":0}," "," ",{"$f":"'Club Use'!E206","v":""}]
[{"$f":"'Club Use'!A207","v":0},{"$f":"'Club Use'!B207","v":0}," "," ",{"$f":"'Club Use'!E207","v":""}]
[{"$f":"'Club Use'!A208","v":0},{"$f":"'Club Use'!B208","v":0}," "," ",{"$f":"'Club Use'!E208","v":""}]
[{"$f":"'Club Use'!A209","v":0},{"$f":"'Club Use'!B209","v":0}," "," ",{"$f":"'Club Use'!E209","v":""}]
[{"$f":"'Club Use'!A210","v":0},{"$f":"'Club Use'!B210","v":0}," "," ",{"$f":"'Club Use'!E210","v":""}]
[{"$f":"'Club Use'!A211","v":0},{"$f":"'Club Use'!B211","v":0}," "," ",{"$f":"'Club Use'!E211","v":""}]
[{"$f":"'Club Use'!A212","v":0},{"$f":"'Club Use'!B212","v":0}," "," ",{"$f":"'Club Use'!E212","v":""}]
[{"$f":"'Club Use'!A213","v":0},{"$f":"'Club Use'!B213","v":0}," "," ",{"$f":"'Club Use'!E213","v":""}]
[{"$f":"'Club Use'!A214","v":0},{"$f":"'Club Use'!B214","v":0}," "," ",{"$f":"'Club Use'!E214","v":""}]
[{"$f":"'Club Use'!A215","v":0},{"$f":"'Club Use'!B215","v":0}," "," ",{"$f":"'Club Use'!E215","v":""}]
[{"$f":"'Club Use'!A216","v":0},{"$f":"'Club Use'!B216","v":0}," "," ",{"$f":"'Club Use'!E216","v":""}]
[{"$f":"'Club Use'!A217","v":0},{"$f":"'Club Use'!B217","v":0}," "," ",{"$f":"'Club Use'!E217","v":""}]
[{"$f":"'Club Use'!A218","v":0},{"$f":"'Club Use'!B218","v":0}," "," ",{"$f":"'Club Use'!E218","v":""}]
[{"$f":"'Club Use'!A219","v":0},{"$f":"'Club Use'!B219","v":0}," "," ",{"$f":"'Club Use'!E219","v":""}]
[{"$f":"'Club Use'!A220","v":0},{"$f":"'Club Use'!B220","v":0}," "," ",{"$f":"'Club Use'!E220","v":""}]
[{"$f":"'Club Use'!A221","v":0},{"$f":"'Club Use'!B221","v":0}," "," ",{"$f":"'Club Use'!E221","v":""}]
[{"$f":"'Club Use'!A222","v":0},{"$f":"'Club Use'!B222","v":0}," "," ",{"$f":"'Club Use'!E222","v":""}]
[{"$f":"'Club Use'!A223","v":0},{"$f":"'Club Use'!B223","v":0}," "," ",{"$f":"'Club Use'!E223","v":""}]
[{"$f":"'Club Use'!A224","v":0},{"$f":"'Club Use'!B224","v":0}," "," ",{"$f":"'Club Use'!E224","v":""}]
[{"$f":"'Club Use'!A225","v":0},{"$f":"'Club Use'!B225","v":0}," "," ",{"$f":"'Club Use'!E225","v":""}]
[{"$f":"'Club Use'!A226","v":0},{"$f":"'Club Use'!B226","v":0}," "," ",{"$f":"'Club Use'!E226","v":""}]
[{"$f":"'Club Use'!A227","v":0},{"$f":"'Club Use'!B227","v":0}," "," ",{"$f":"'Club Use'!E227","v":""}]
[{"$f":"'Club Use'!A228","v":0},{"$f":"'Club Use'!B228","v":0}," "," ",{"$f":"'Club Use'!E228","v":""}]
[{"$f":"'Club Use'!A229","v":0},{"$f":"'Club Use'!B229","v":0}," "," ",{"$f":"'Club Use'!E229","v":""}]
[{"$f":"'Club Use'!A230","v":0},{"$f":"'Club Use'!B230","v":0}," "," ",{"$f":"'Club Use'!E230","v":""}]
[{"$f":"'Club Use'!A231","v":0},{"$f":"'Club Use'!B231","v":0}," "," ",{"$f":"'Club Use'!E231","v":""}]
[{"$f":"'Club Use'!A232","v":0},{"$f":"'Club Use'!B232","v":0}," "," ",{"$f":"'Club Use'!E232","v":""}]
[{"$f":"'Club Use'!A233","v":0},{"$f":"'Club Use'!B233","v":0}," "," ",{"$f":"'Club Use'!E233","v":""}]
[{"$f":"'Club Use'!A234","v":0},{"$f":"'Club Use'!B234","v":0}," "," ",{"$f":"'Club Use'!E234","v":""}]
[{"$f":"'Club Use'!A235","v":0},{"$f":"'Club Use'!B235","v":0}," "," ",{"$f":"'Club Use'!E235","v":""}]
[{"$f":"'Club Use'!A236","v":0},{"$f":"'Club Use'!B236","v":0}," "," ",{"$f":"'Club Use'!E236","v":""}]
[{"$f":"'Club Use'!A237","v":0},{"$f":"'Club Use'!B237","v":0}," "," ",{"$f":"'Club Use'!E237","v":""}]
[{"$f":"'Club Use'!A238","v":0},{"$f":"'Club Use'!B238","v":0}," "," ",{"$f":"'Club Use'!E238","v":""}]
[{"$f":"'Club Use'!A239","v":0},{"$f":"'Club Use'!B239","v":0}," "," ",{"$f":"'Club Use'!E239","v":""}]
[{"$f":"'Club Use'!A240","v":0},{"$f":"'Club Use'!B240","v":0}," "," ",{"$f":"'Club Use'!E240","v":""}]
[{"$f":"'Club Use'!A241","v":0},{"$f":"'Club Use'!B241","v":0}," "," ",{"$f":"'Club Use'!E241","v":""}]
[{"$f":"'Club Use'!A242","v":0},{"$f":"'Club Use'!B242","v":0}," "," ",{"$f":"'Club Use'!E242","v":""}]
[{"$f":"'Club Use'!A243","v":0},{"$f":"'Club Use'!B243","v":0}," "," ",{"$f":"'Club Use'!E243","v":""}]
[{"$f":"'Club Use'!A244","v":0},{"$f":"'Club Use'!B244","v":0}," "," ",{"$f":"'Club Use'!E244","v":""}]
[{"$f":"'Club Use'!A245","v":0},{"$f":"'Club Use'!B245","v":0}," "," ",{"$f":"'Club Use'!E245","v":""}]
[{"$f":"'Club Use'!A246","v":0},{"$f":"'Club Use'!B246","v":0}," "," ",{"$f":"'Club Use'!E246","v":""}]
[{"$f":"'Club Use'!A247","v":0},{"$f":"'Club Use'!B247","v":0}," "," ",{"$f":"'Club Use'!E247","v":""}]
[{"$f":"'Club Use'!A248","v":0},{"$f":"'Club Use'!B248","v":0}," "," ",{"$f":"'Club Use'!E248","v":""}]
[{"$f":"'Club Use'!A249","v":0},{"$f":"'Club Use'!B249","v":0}," "," ",{"$f":"'Club Use'!E249","v":""}]
[{"$f":"'Club Use'!A250","v":0},{"$f":"'Club Use'!B250","v":0}," "," ",{"$f":"'Club Use'!E250","v":""}]
[{"$f":"'Club Use'!A251","v":0},{"$f":"'Club Use'!B251","v":0}," "," ",{"$f":"'Club Use'!E251","v":""}]
[{"$f":"'Club Use'!A252","v":0},{"$f":"'Club Use'!B252","v":0}," "," ",{"$f":"'Club Use'!E252","v":""}]
[{"$f":"'Club Use'!A253","v":0},{"$f":"'Club Use'!B253","v":0}," "," ",{"$f":"'Club Use'!E253","v":""}]
[{"$f":"'Club Use'!A254","v":0},{"$f":"'Club Use'!B254","v":0}," "," ",{"$f":"'Club Use'!E254","v":""}]
[{"$f":"'Club Use'!A255","v":0},{"$f":"'Club Use'!B255","v":0}," "," ",{"$f":"'Club Use'!E255","v":""}]
[{"$f":"'Club Use'!A256","v":0},{"$f":"'Club Use'!B256","v":0}," "," ",{"$f":"'Club Use'!E256","v":""}]
[{"$f":"'Club Use'!A257","v":0},{"$f":"'Club Use'!B257","v":0}," "," ",{"$f":"'Club Use'!E257","v":""}]
[{"$f":"'Club Use'!A258","v":0},{"$f":"'Club Use'!B258","v":0}," "," ",{"$f":"'Club Use'!E258","v":""}]
[{"$f":"'Club Use'!A259","v":0},{"$f":"'Club Use'!B259","v":0}," "," ",{"$f":"'Club Use'!E259","v":""}]
[{"$f":"'Club Use'!A260","v":0},{"$f":"'Club Use'!B260","v":0}," "," ",{"$f":"'Club Use'!E260","v":""}]
[{"$f":"'Club Use'!A261","v":0},{"$f":"'Club Use'!B261","v":0}," "," ",{"$f":"'Club Use'!E261","v":""}]
[{"$f":"'Club Use'!A262","v":0},{"$f":"'Club Use'!B262","v":0}," "," ",{"$f":"'Club Use'!E262","v":""}]
[{"$f":"'Club Use'!A263","v":0},{"$f":"'Club Use'!B263","v":0}," "," ",{"$f":"'Club Use'!E263","v":""}]
[{"$f":"'Club Use'!A264","v":0},{"$f":"'Club Use'!B264","v":0}," "," ",{"$f":"'Club Use'!E264","v":""}]
[{"$f":"'Club Use'!A265","v":0},{"$f":"'Club Use'!B265","v":0}," "," ",{"$f":"'Club Use'!E265","v":""}]
[{"$f":"'Club Use'!A266","v":0},{"$f":"'Club Use'!B266","v":0},{"$f":"IF(OR(E259 =$F$3,E259=0),\" \",$C$2)","v":" "}," ",{"$f":"'Club Use'!E266","v":""}]
[{"$f":"'Club Use'!A267","v":0},{"$f":"'Club Use'!B267","v":0}," ",{"$f":"IF(OR(E260 =$F$3,E260=0),\" \",$D$2)","v":" "},{"$f":"'Club Use'!E267","v":""}]
[{"$f":"'Club Use'!A268","v":0},{"$f":"'Club Use'!B268","v":0}," "," ",{"$f":"'Club Use'!E268","v":""}]
[{"$f":"'Club Use'!A269","v":0},{"$f":"'Club Use'!B269","v":0}," "," ",{"$f":"'Club Use'!E269","v":""}]
[{"$f":"'Club Use'!A270","v":0},{"$f":"'Club Use'!B270","v":0}," "," ",{"$f":"'Club Use'!E270","v":""}]
[{"$f":"'Club Use'!A271","v":0},{"$f":"'Club Use'!B271","v":0}," "," ",{"$f":"'Club Use'!E271","v":""}]
[{"$f":"'Club Use'!A272","v":0},{"$f":"'Club Use'!B272","v":0}," "," ",{"$f":"'Club Use'!E272","v":""}]
[{"$f":"'Club Use'!A273","v":0},{"$f":"'Club Use'!B273","v":0}," "," ",{"$f":"'Club Use'!E273","v":""}]
[{"$f":"'Club Use'!A274","v":0},{"$f":"'Club Use'!B274","v":0}," "," ",{"$f":"'Club Use'!E274","v":""}]
[{"$f":"'Club Use'!A275","v":0},{"$f":"'Club Use'!B275","v":0}," "," ",{"$f":"'Club Use'!E275","v":""}]
[{"$f":"'Club Use'!A276","v":0},{"$f":"'Club Use'!B276","v":0}," "," ",{"$f":"'Club Use'!E276","v":""}]
[{"$f":"'Club Use'!A277","v":0},{"$f":"'Club Use'!B277","v":0}," "," ",{"$f":"'Club Use'!E277","v":""}]
[{"$f":"'Club Use'!A278","v":0},{"$f":"'Club Use'!B278","v":0}," "," ",{"$f":"'Club Use'!E278","v":""}]
[{"$f":"'Club Use'!A279","v":0},{"$f":"'Club Use'!B279","v":0}," "," ",{"$f":"'Club Use'!E279","v":""}]
[{"$f":"'Club Use'!A280","v":0},{"$f":"'Club Use'!B280","v":0}," "," ",{"$f":"'Club Use'!E280","v":""}]
[{"$f":"'Club Use'!A281","v":0},{"$f":"'Club Use'!B281","v":0}," "," ",{"$f":"'Club Use'!E281","v":""}]
[{"$f":"'Club Use'!A282","v":0},{"$f":"'Club Use'!B282","v":0}," "," ",{"$f":"'Club Use'!E282","v":""}]
[{"$f":"'Club Use'!A283","v":0},{"$f":"'Club Use'!B283","v":0}," "," ",{"$f":"'Club Use'!E283","v":""}]
[{"$f":"'Club Use'!A284","v":0},{"$f":"'Club Use'!B284","v":0}," "," ",{"$f":"'Club Use'!E284","v":""}]
[{"$f":"'Club Use'!A285","v":0},{"$f":"'Club Use'!B285","v":0}," "," ",{"$f":"'Club Use'!E285","v":""}]
[{"$f":"'Club Use'!A286","v":0},{"$f":"'Club Use'!B286","v":0}," "," ",{"$f":"'Club Use'!E286","v":""}]
[{"$f":"'Club Use'!A287","v":0},{"$f":"'Club Use'!B287","v":0}," "," ",{"$f":"'Club Use'!E287","v":""}]
[{"$f":"'Club Use'!A288","v":0},{"$f":"'Club Use'!B288","v":0}," "," ",{"$f":"'Club Use'!E288","v":""}]
[{"$f":"'Club Use'!A289","v":0},{"$f":"'Club Use'!B289","v":0}," "," ",{"$f":"'Club Use'!E289","v":""}]
[{"$f":"'Club Use'!A290","v":0},{"$f":"'Club Use'!B290","v":0}," "," ",{"$f":"'Club Use'!E290","v":""}]
[{"$f":"'Club Use'!A291","v":0},{"$f":"'Club Use'!B291","v":0}," "," ",{"$f":"'Club Use'!E291","v":""}]
[{"$f":"'Club Use'!A292","v":0},{"$f":"'Club Use'!B292","v":0}," "," ",{"$f":"'Club Use'!E292","v":""}]
[{"$f":"'Club Use'!A293","v":0},{"$f":"'Club Use'!B293","v":0}," "," ",{"$f":"'Club Use'!E293","v":""}]
[{"$f":"'Club Use'!A294","v":0},{"$f":"'Club Use'!B294","v":0}," "," ",{"$f":"'Club Use'!E294","v":""}]
[{"$f":"'Club Use'!A295","v":0},{"$f":"'Club Use'!B295","v":0}," "," ",{"$f":"'Club Use'!E295","v":""}]
[{"$f":"'Club Use'!A296","v":0},{"$f":"'Club Use'!B296","v":0}," "," ",{"$f":"'Club Use'!E296","v":""}]
[{"$f":"'Club Use'!A297","v":0},{"$f":"'Club Use'!B297","v":0}," "," ",{"$f":"'Club Use'!E297","v":""}]
[{"$f":"'Club Use'!A298","v":0},{"$f":"'Club Use'!B298","v":0}," "," ",{"$f":"'Club Use'!E298","v":""}]
[{"$f":"'Club Use'!A299","v":0},{"$f":"'Club Use'!B299","v":0}," "," ",{"$f":"'Club Use'!E299","v":""}]
[{"$f":"'Club Use'!A300","v":0},{"$f":"'Club Use'!B300","v":0}," "," ",{"$f":"'Club Use'!E300","v":""}]
[{"$f":"'Club Use'!A301","v":0},{"$f":"'Club Use'!B301","v":0}," "," ",{"$f":"'Club Use'!E301","v":""}]
[{"$f":"'Club Use'!A302","v":0},{"$f":"'Club Use'!B302","v":0}," "," ",{"$f":"'Club Use'!E302","v":""}]
[{"$f":"'Club Use'!A303","v":0},{"$f":"'Club Use'!B303","v":0}," "," ",{"$f":"'Club Use'!E303","v":""}]
[{"$f":"'Club Use'!A304","v":0},{"$f":"'Club Use'!B304","v":0}," "," ",{"$f":"'Club Use'!E304","v":""}]
[{"$f":"'Club Use'!A305","v":0},{"$f":"'Club Use'!B305","v":0}," "," ",{"$f":"'Club Use'!E305","v":""}]
[{"$f":"'Club Use'!A306","v":0},{"$f":"'Club Use'!B306","v":0}," "," ",{"$f":"'Club Use'!E306","v":""}]
[{"$f":"'Club Use'!A307","v":0},{"$f":"'Club Use'!B307","v":0}," "," ",{"$f":"'Club Use'!E307","v":""}]
[{"$f":"'Club Use'!A308","v":0},{"$f":"'Club Use'!B308","v":0}," "," ",{"$f":"'Club Use'!E308","v":""}]
[{"$f":"'Club Use'!A309","v":0},{"$f":"'Club Use'!B309","v":0}," "," ",{"$f":"'Club Use'!E309","v":""}]
[{"$f":"'Club Use'!A310","v":0},{"$f":"'Club Use'!B310","v":0}," "," ",{"$f":"'Club Use'!E310","v":""}]
[{"$f":"'Club Use'!A311","v":0},{"$f":"'Club Use'!B311","v":0}," "," ",{"$f":"'Club Use'!E311","v":""}]
[{"$f":"'Club Use'!A312","v":0},{"$f":"'Club Use'!B312","v":0}," "," ",{"$f":"'Club Use'!E312","v":""}]
[{"$f":"'Club Use'!A313","v":0},{"$f":"'Club Use'!B313","v":0}," "," ",{"$f":"'Club Use'!E313","v":""}]
[{"$f":"'Club Use'!A314","v":0},{"$f":"'Club Use'!B314","v":0}," "," ",{"$f":"'Club Use'!E314","v":""}]
[{"$f":"'Club Use'!A315","v":0},{"$f":"'Club Use'!B315","v":0}," "," ",{"$f":"'Club Use'!E315","v":""}]
[{"$f":"'Club Use'!A316","v":0},{"$f":"'Club Use'!B316","v":0}," "," ",{"$f":"'Club Use'!E316","v":""}]
[{"$f":"'Club Use'!A317","v":0},{"$f":"'Club Use'!B317","v":0}," "," ",{"$f":"'Club Use'!E317","v":""}]
[{"$f":"'Club Use'!A318","v":0},{"$f":"'Club Use'!B318","v":0}," "," ",{"$f":"'Club Use'!E318","v":""}]
[{"$f":"'Club Use'!A319","v":0},{"$f":"'Club Use'!B319","v":0}," "," ",{"$f":"'Club Use'!E319","v":""}]
[{"$f":"'Club Use'!A320","v":0},{"$f":"'Club Use'!B320","v":0}," "," ",{"$f":"'Club Use'!E320","v":""}]
[{"$f":"'Club Use'!A321","v":0},{"$f":"'Club Use'!B321","v":0}," "," ",{"$f":"'Club Use'!E321","v":""}]
[{"$f":"'Club Use'!A322","v":0},{"$f":"'Club Use'!B322","v":0}," "," ",{"$f":"'Club Use'!E322","v":""}]
[{"$f":"'Club Use'!A323","v":0},{"$f":"'Club Use'!B323","v":0}," "," ",{"$f":"'Club Use'!E323","v":""}]
[{"$f":"'Club Use'!A324","v":0},{"$f":"'Club Use'!B324","v":0}," "," ",{"$f":"'Club Use'!E324","v":""}]
[{"$f":"'Club Use'!A325","v":0},{"$f":"'Club Use'!B325","v":0}," "," ",{"$f":"'Club Use'!E325","v":""}]
[{"$f":"'Club Use'!A326","v":0},{"$f":"'Club Use'!B326","v":0}," "," ",{"$f":"'Club Use'!E326","v":""}]
[{"$f":"'Club Use'!A327","v":0},{"$f":"'Club Use'!B327","v":0}," "," ",{"$f":"'Club Use'!E327","v":""}]
[{"$f":"'Club Use'!A328","v":0},{"$f":"'Club Use'!B328","v":0}," "," ",{"$f":"'Club Use'!E328","v":""}]
[{"$f":"'Club Use'!A329","v":0},{"$f":"'Club Use'!B329","v":0}," "," ",{"$f":"'Club Use'!E329","v":""}]
[{"$f":"'Club Use'!A330","v":0},{"$f":"'Club Use'!B330","v":0},{"$f":"IF(OR(E323 =$F$3,E323=0),\" \",$C$2)","v":" "}," ",{"$f":"'Club Use'!E330","v":""}]
[{"$f":"'Club Use'!A331","v":0},{"$f":"'Club Use'!B331","v":0}," ",{"$f":"IF(OR(E324 =$F$3,E324=0),\" \",$D$2)","v":" "},{"$f":"'Club Use'!E331","v":""}]
[{"$f":"'Club Use'!A332","v":0},{"$f":"'Club Use'!B332","v":0}," "," ",{"$f":"'Club Use'!E332","v":""}]
[{"$f":"'Club Use'!A333","v":0},{"$f":"'Club Use'!B333","v":0}," "," ",{"$f":"'Club Use'!E333","v":""}]
[{"$f":"'Club Use'!A334","v":0},{"$f":"'Club Use'!B334","v":0}," "," ",{"$f":"'Club Use'!E334","v":""}]
[{"$f":"'Club Use'!A335","v":0},{"$f":"'Club Use'!B335","v":0}," "," ",{"$f":"'Club Use'!E335","v":""}]
[{"$f":"'Club Use'!A336","v":0},{"$f":"'Club Use'!B336","v":0}," "," ",{"$f":"'Club Use'!E336","v":""}]
[{"$f":"'Club Use'!A337","v":0},{"$f":"'Club Use'!B337","v":0}," "," ",{"$f":"'Club Use'!E337","v":""}]
[{"$f":"'Club Use'!A338","v":0},{"$f":"'Club Use'!B338","v":0}," "," ",{"$f":"'Club Use'!E338","v":""}]
[{"$f":"'Club Use'!A339","v":0},{"$f":"'Club Use'!B339","v":0}," "," ",{"$f":"'Club Use'!E339","v":""}]
[{"$f":"'Club Use'!A340","v":0},{"$f":"'Club Use'!B340","v":0}," "," ",{"$f":"'Club Use'!E340","v":""}]
[{"$f":"'Club Use'!A341","v":0},{"$f":"'Club Use'!B341","v":0}," "," ",{"$f":"'Club Use'!E341","v":""}]
[{"$f":"'Club Use'!A342","v":0},{"$f":"'Club Use'!B342","v":0}," "," ",{"$f":"'Club Use'!E342","v":""}]
[{"$f":"'Club Use'!A343","v":0},{"$f":"'Club Use'!B343","v":0}," "," ",{"$f":"'Club Use'!E343","v":""}]
[{"$f":"'Club Use'!A344","v":0},{"$f":"'Club Use'!B344","v":0}," "," ",{"$f":"'Club Use'!E344","v":""}]
[{"$f":"'Club Use'!A345","v":0},{"$f":"'Club Use'!B345","v":0}," "," ",{"$f":"'Club Use'!E345","v":""}]
[{"$f":"'Club Use'!A346","v":0},{"$f":"'Club Use'!B346","v":0}," "," ",{"$f":"'Club Use'!E346","v":""}]
[{"$f":"'Club Use'!A347","v":0},{"$f":"'Club Use'!B347","v":0}," "," ",{"$f":"'Club Use'!E347","v":""}]
[{"$f":"'Club Use'!A348","v":0},{"$f":"'Club Use'!B348","v":0}," "," ",{"$f":"'Club Use'!E348","v":""}]
[{"$f":"'Club Use'!A349","v":0},{"$f":"'Club Use'!B349","v":0}," "," ",{"$f":"'Club Use'!E349","v":""}]
[{"$f":"'Club Use'!A350","v":0},{"$f":"'Club Use'!B350","v":0}," "," ",{"$f":"'Club Use'!E350","v":""}]
[{"$f":"'Club Use'!A351","v":0},{"$f":"'Club Use'!B351","v":0}," "," ",{"$f":"'Club Use'!E351","v":""}]
[{"$f":"'Club Use'!A352","v":0},{"$f":"'Club Use'!B352","v":0}," "," ",{"$f":"'Club Use'!E352","v":""}]
[{"$f":"'Club Use'!A353","v":0},{"$f":"'Club Use'!B353","v":0}," "," ",{"$f":"'Club Use'!E353","v":""}]
[{"$f":"'Club Use'!A354","v":0},{"$f":"'Club Use'!B354","v":0}," "," ",{"$f":"'Club Use'!E354","v":""}]
[{"$f":"'Club Use'!A355","v":0},{"$f":"'Club Use'!B355","v":0}," "," ",{"$f":"'Club Use'!E355","v":""}]
[{"$f":"'Club Use'!A356","v":0},{"$f":"'Club Use'!B356","v":0}," "," ",{"$f":"'Club Use'!E356","v":""}]
[{"$f":"'Club Use'!A357","v":0},{"$f":"'Club Use'!B357","v":0}," "," ",{"$f":"'Club Use'!E357","v":""}]
[{"$f":"'Club Use'!A358","v":0},{"$f":"'Club Use'!B358","v":0}," "," ",{"$f":"'Club Use'!E358","v":""}]
[{"$f":"'Club Use'!A359","v":0},{"$f":"'Club Use'!B359","v":0}," "," ",{"$f":"'Club Use'!E359","v":""}]
[{"$f":"'Club Use'!A360","v":0},{"$f":"'Club Use'!B360","v":0}," "," ",{"$f":"'Club Use'!E360","v":""}]
[{"$f":"'Club Use'!A361","v":0},{"$f":"'Club Use'!B361","v":0}," "," ",{"$f":"'Club Use'!E361","v":""}]
[{"$f":"'Club Use'!A362","v":0},{"$f":"'Club Use'!B362","v":0}," "," ",{"$f":"'Club Use'!E362","v":""}]
[{"$f":"'Club Use'!A363","v":0},{"$f":"'Club Use'!B363","v":0}," "," ",{"$f":"'Club Use'!E363","v":""}]
[{"$f":"'Club Use'!A364","v":0},{"$f":"'Club Use'!B364","v":0}," "," ",{"$f":"'Club Use'!E364","v":""}]
[{"$f":"'Club Use'!A365","v":0},{"$f":"'Club Use'!B365","v":0}," "," ",{"$f":"'Club Use'!E365","v":""}]
[{"$f":"'Club Use'!A366","v":0},{"$f":"'Club Use'!B366","v":0}," "," ",{"$f":"'Club Use'!E366","v":""}]
[{"$f":"'Club Use'!A367","v":0},{"$f":"'Club Use'!B367","v":0}," "," ",{"$f":"'Club Use'!E367","v":""}]
[{"$f":"'Club Use'!A368","v":0},{"$f":"'Club Use'!B368","v":0}," "," ",{"$f":"'Club Use'!E368","v":""}]
[{"$f":"'Club Use'!A369","v":0},{"$f":"'Club Use'!B369","v":0}," "," ",{"$f":"'Club Use'!E369","v":""}]
[{"$f":"'Club Use'!A370","v":0},{"$f":"'Club Use'!B370","v":0}," "," ",{"$f":"'Club Use'!E370","v":""}]
[{"$f":"'Club Use'!A371","v":0},{"$f":"'Club Use'!B371","v":0}," "," ",{"$f":"'Club Use'!E371","v":""}]
[{"$f":"'Club Use'!A372","v":0},{"$f":"'Club Use'!B372","v":0}," "," ",{"$f":"'Club Use'!E372","v":""}]
[{"$f":"'Club Use'!A373","v":0},{"$f":"'Club Use'!B373","v":0}," "," ",{"$f":"'Club Use'!E373","v":""}]
[{"$f":"'Club Use'!A374","v":0},{"$f":"'Club Use'!B374","v":0}," "," ",{"$f":"'Club Use'!E374","v":""}]
[{"$f":"'Club Use'!A375","v":0},{"$f":"'Club Use'!B375","v":0}," "," ",{"$f":"'Club Use'!E375","v":""}]
[{"$f":"'Club Use'!A376","v":0},{"$f":"'Club Use'!B376","v":0}," "," ",{"$f":"'Club Use'!E376","v":""}]
[{"$f":"'Club Use'!A377","v":0},{"$f":"'Club Use'!B377","v":0}," "," ",{"$f":"'Club Use'!E377","v":""}]
[{"$f":"'Club Use'!A378","v":0},{"$f":"'Club Use'!B378","v":0}," "," ",{"$f":"'Club Use'!E378","v":""}]
[{"$f":"'Club Use'!A379","v":0},{"$f":"'Club Use'!B379","v":0}," "," ",{"$f":"'Club Use'!E379","v":""}]
[{"$f":"'Club Use'!A380","v":0},{"$f":"'Club Use'!B380","v":0}," "," ",{"$f":"'Club Use'!E380","v":""}]
[{"$f":"'Club Use'!A381","v":0},{"$f":"'Club Use'!B381","v":0}," "," ",{"$f":"'Club Use'!E381","v":""}]
[{"$f":"'Club Use'!A382","v":0},{"$f":"'Club Use'!B382","v":0}," "," ",{"$f":"'Club Use'!E382","v":""}]